BEGIN:VCALENDAR
VERSION:2.0
PRODID:icalendar-ruby
CALSCALE:GREGORIAN
METHOD:PUBLISH
BEGIN:VEVENT
DTSTAMP:20260422T092751Z
UID:67-2335915@betheltab.ca
DTSTART:20261013T170000Z
DTEND:20261013T180000Z
CLASS:PUBLIC
CREATED:20260421T161424
DESCRIPTION:Join with other women to pray for the needs of others every wee
 k at 10 AM in the Life Room.
LAST-MODIFIED:20260421T161424
LOCATION:Life Room
SUMMARY:Women's Prayer
URL;VALUE=URI:https://www.betheltab.ca/events/womens-prayer/2026-10-13
ATTACH;FILENAME=womens prayer (1).jpg;FMTTYPE=image/jpeg:https://dq5pwpg1q8
 ru0.cloudfront.net/2023/12/22/09/33/31/367212f2-3cbe-4ecf-9028-0b56ba6c0a6
 e/womens%20prayer%20(1).jpg
END:VEVENT
END:VCALENDAR
