BEGIN:VCALENDAR
VERSION:2.0
PRODID:icalendar-ruby
CALSCALE:GREGORIAN
METHOD:PUBLISH
BEGIN:VEVENT
DTSTAMP:20260422T051935Z
UID:319-2336220@betheltab.ca
DTSTART:20261015T020000Z
DTEND:20261015T040000Z
CLASS:PUBLIC
CREATED:20260421T161425
DESCRIPTION:
LAST-MODIFIED:20260421T161425
LOCATION:Bethel Church
SUMMARY:Pen City Youth: Sr. High Night
URL;VALUE=URI:https://www.betheltab.ca/events/pen-city-youth-sr-high-night/
 2026-10-14
ATTACH;FILENAME=Copy of PenCity Youth Large Screen Graphics-2.jpg;FMTTYPE=i
 mage/jpeg:https://dq5pwpg1q8ru0.cloudfront.net/2026/01/15/19/43/31/6bbbb56
 1-09ed-4299-b424-d2968bef9475/Copy%20of%20PenCity%20Youth%20Large%20Screen
 %20Graphics-2.jpg
END:VEVENT
END:VCALENDAR
