BEGIN:VCALENDAR
VERSION:2.0
PRODID:icalendar-ruby
CALSCALE:GREGORIAN
METHOD:PUBLISH
BEGIN:VEVENT
DTSTAMP:20260422T022625Z
UID:352-2336262@betheltab.ca
DTSTART:20261014T020000Z
DTEND:20261014T033000Z
CLASS:PUBLIC
CREATED:20260421T161425
DESCRIPTION:
LAST-MODIFIED:20260421T161425
LOCATION:Bethel Penticton - 945 Main St Penticton British Columbia
SUMMARY:Pen City Youth: Jr. High Night
URL;VALUE=URI:https://www.betheltab.ca/events/pen-city-youth-jr-high-night/
 2026-10-13
ATTACH;FILENAME=Copy of PenCity Youth Large Screen Graphics.jpg;FMTTYPE=ima
 ge/jpeg:https://dq5pwpg1q8ru0.cloudfront.net/2026/01/15/19/38/15/3fed6f7d-
 6189-4e61-9daa-26239c17a3bd/Copy%20of%20PenCity%20Youth%20Large%20Screen%2
 0Graphics.jpg
END:VEVENT
END:VCALENDAR
