BEGIN:VCALENDAR
VERSION:2.0
PRODID:icalendar-ruby
CALSCALE:GREGORIAN
METHOD:PUBLISH
BEGIN:VEVENT
DTSTAMP:20260422T112540Z
UID:281-2337371@betheltab.ca
DTSTART:20261014T160000Z
DTEND:20261014T170000Z
CLASS:PUBLIC
CREATED:20260422T030848
DESCRIPTION:Join with other men to pray for the needs of others every week 
 at 9 AM in the Life Room.
LAST-MODIFIED:20260422T030848
LOCATION:Life Room
SUMMARY:Men's Prayer
URL;VALUE=URI:https://www.betheltab.ca/events/mens-prayer/2026-10-14
ATTACH;FILENAME=womens prayer (2).jpg;FMTTYPE=image/jpeg:https://dq5pwpg1q8
 ru0.cloudfront.net/2023/12/22/09/34/30/9617d011-0218-4b52-a537-8176cce7003
 f/womens%20prayer%20(2).jpg
END:VEVENT
END:VCALENDAR
