BEGIN:VCALENDAR
VERSION:2.0
PRODID:icalendar-ruby
CALSCALE:GREGORIAN
METHOD:PUBLISH
BEGIN:VEVENT
DTSTAMP:20260423T225134Z
UID:448-2349675@betheltab.ca
DTSTART:20261028T133000Z
DTEND:20261028T150000Z
CLASS:PUBLIC
CREATED:20260423T144816
DESCRIPTION:We’re setting aside time to come together in prayer as a chur
 ch family. You’re welcome to join for the entire gathering or drop in fo
 r part of it. Pray on your own\, pray with friends\, or join others as you
  feel led. There’s no agenda to follow—just a shared space to seek God
  together.
LAST-MODIFIED:20260423T144816
LOCATION:Bethel Church
SUMMARY:Collective Prayer
URL;VALUE=URI:https://www.betheltab.ca/events/collective-prayer/2026-10-28
ATTACH;FILENAME=12.jpg;FMTTYPE=image/jpeg:https://dq5pwpg1q8ru0.cloudfront.
 net/2026/02/27/22/35/42/deb7f8b3-3b97-48b1-8df9-d6a2bb6e571a/12.jpg
END:VEVENT
END:VCALENDAR
