BEGIN:VCALENDAR
VERSION:2.0
PRODID:icalendar-ruby
CALSCALE:GREGORIAN
METHOD:PUBLISH
BEGIN:VEVENT
DTSTAMP:20260424T200959Z
UID:450-2355716@betheltab.ca
DTSTART:20261105T200000Z
DTEND:20261105T210000Z
CLASS:PUBLIC
CREATED:20260424T114124
DESCRIPTION:We’re setting aside time to come together in prayer as a chur
 ch family. You’re welcome to join for the entire gathering or drop in fo
 r part of it. Pray on your own\, pray with friends\, or join others as you
  feel led. There’s no agenda to follow—just a shared space to seek God
  together.
LAST-MODIFIED:20260424T114124
LOCATION:Bethel Church 
SUMMARY:Collective Prayer 
URL;VALUE=URI:https://www.betheltab.ca/events/collective-prayer--450/2026-1
 1-05
ATTACH;FILENAME=13.jpg;FMTTYPE=image/jpeg:https://dq5pwpg1q8ru0.cloudfront.
 net/2026/02/27/22/35/08/c4abdec2-6784-4e06-9831-05b0513f2265/13.jpg
END:VEVENT
END:VCALENDAR
