BEGIN:VCALENDAR
VERSION:2.0
PRODID:icalendar-ruby
CALSCALE:GREGORIAN
METHOD:PUBLISH
BEGIN:VEVENT
DTSTAMP:20260421T083243Z
UID:457-2247414@betheltab.ca
DTSTART:20260420T010000Z
DTEND:20260420T020000Z
CLASS:PUBLIC
CREATED:20260409T102247
DESCRIPTION:Church family\, our Annual General Meeting is coming up April 1
 9 at 6pm\, and we’d especially love for all of our members to be there. 
 This is such an important moment in the life of our church as we celebrate
  all that God has done over the past year and look ahead with faith to whe
 re He is leading us next.\nWe believe every member plays an important part
  in the life and future of our church\, so your presence really matters. P
 lease make every effort to join us as we pray\, reflect\, and move forward
  together in unity. We’re excited for what God has ahead!
LAST-MODIFIED:20260409T102247
LOCATION:Bethel Church
SUMMARY:Annual General Meeting
URL;VALUE=URI:https://www.betheltab.ca/events/annual-general-meeting--457/2
 026-04-19
ATTACH;FILENAME=AGM.png;FMTTYPE=image/png:https://dq5pwpg1q8ru0.cloudfront.
 net/2026/04/09/17/22/47/d08878b0-8e58-4398-8bc4-a81f39e2cc6e/AGM.png
END:VEVENT
END:VCALENDAR
